BEGIN:VCALENDAR
VERSION:2.0
PRODID:-//orgCentral//EN_US
CALSCALE:GREGORIAN
METHOD:PUBLISH
BEGIN:VEVENT
DTSTART:20240717T140000Z
DTEND:20240717T150000Z
LOCATION:Albany Pine Bush Discovery Center\n 195 New Karner Road\n Albany New York\, 12205\n 518-456-0655\n info@AlbanyPineBush.org\n http://www.albanypinebush.org/contact\n 
CATEGORIES:Event
SUMMARY:Pine Bush Pups: Discover Sand
DESCRIPTION:\n	This program is suitable for ages under 6 with a caregiver\n\n	Come and explore the sandy environment of the Albany Pine Bush Preserve and discover what creatures live here in the sand. We will take a short hike and search for creatures living in the sand. We&rsquo;ll also sing\, listen to a story and create sand art to bring home. This program will meet inside the Discovery Center.\n	\n	Click here to review our public program guidelines.\n\n	SUGGESTED DONATION $5\n	&nbsp;\n
SEQUENCE:0
UID:45885c6f88eb6275b78fdb813d764f83@69.167.152.199
URL:https://albanypinebush.org/lupinefest/section=visit-calendar&evtid=1708
X-MICROSOFT-CDO-IMPORTANCE:2
CLASS:PUBLIC
DTSTAMP:20260420T124903
CREATED:20260420T124903
END:VEVENT
END:VCALENDAR
