BEGIN:VCALENDAR
VERSION:2.0
PRODID:-//orgCentral//EN_US
CALSCALE:GREGORIAN
METHOD:PUBLISH
BEGIN:VEVENT
DTSTART:20200126T180000Z
DTEND:20200126T200000Z
LOCATION:Albany Pine Bush Discovery Center\n 195 New Karner Road\n Albany New York\, 12205\n 518-456-0655\n info@AlbanyPineBush.org\n http://www.albanypinebush.org/contact\n 
CATEGORIES:Event
SUMMARY:Fox Trot
DESCRIPTION:\n	Suitable for ages 6-10\, tweens\, teens and adults\n	Join us for a short\, inside presentation on the two species of fox that live in the Pine Bush. We will then continue outside for a hike to look for signs of foxes. We will walk approximately one mile over rolling terrain.\n
SEQUENCE:0
UID:1763d0170860229962573d456eb345a7@69.167.152.199
URL:https://albanypinebush.org/section=visit-calendar&evtid=812
X-MICROSOFT-CDO-IMPORTANCE:2
CLASS:PUBLIC
DTSTAMP:20260420T225704
CREATED:20260420T225704
END:VEVENT
END:VCALENDAR
