BEGIN:VCALENDAR
VERSION:2.0
PRODID:-//orgCentral//EN_US
CALSCALE:GREGORIAN
METHOD:PUBLISH
BEGIN:VEVENT
DTSTART:20190913T140000Z
DTEND:20190913T160000Z
LOCATION:Trailhead #4 Blueberry Hill East\n \n  \, \n 518-456-0655\n info@AlbanyPineBush.org\n http://www.AlbanyPineBush.org\n 
CATEGORIES:Event
SUMMARY:Morning Hike
DESCRIPTION:\n	Suitable for adults.\n	Start your day with a refreshing hike along the yellow trail at Blueberry Hill East (Trailhead 4). Come join us! We plan to hike a 1.7-mile loop.&nbsp;\n
SEQUENCE:0
UID:240c89df316e33b3a226f8ff52bffb10@69.167.152.199
URL:https://albanypinebush.org/section=calendar&evtid=761
X-MICROSOFT-CDO-IMPORTANCE:2
CLASS:PUBLIC
DTSTAMP:20260420T132421
CREATED:20260420T132421
END:VEVENT
END:VCALENDAR
