BEGIN:VCALENDAR
VERSION:2.0
PRODID:-//orgCentral//EN_US
CALSCALE:GREGORIAN
METHOD:PUBLISH
BEGIN:VEVENT
DTSTART:20260422T200000Z
DTEND:20260422T213000Z
LOCATION:Earth Day Parking\n \n  \, \n \n \n \n 
CATEGORIES:Event
SUMMARY:Earth Day Litter Clean-Up for Teens
DESCRIPTION:\n	This program is suitable for teens with an adult.\n\n	Come celebrate Earth Day by volunteering in the Albany Pine Bush Preserve!&nbsp;Volunteer on a cleanup project in the Albany Pine Bush! Help us clean up trash within the preserve. Ecosystem health is our priority\, and the simple act of picking up garbage is a great way to help. Participants will pick up litter within the preserve\, mostly along roads. All equipment including gloves\, trash bags\, and safety vests will be provided. Please dress appropriately for the weather and outdoor working conditions\, and bring your own water.&nbsp;An adult will need to accompany any participant under 18 years old for the duration of the cleanup.\n\n	\n	You will receive directions to your meeting location via the email you used to register. Please report directly to that job location.\n\n	Click here&nbsp;to review our public program guidelines.\n\n	&nbsp;\n\n	&nbsp;\n\n	&nbsp;\n\n	&nbsp;\n\n	&nbsp;\n
SEQUENCE:0
UID:795f23e41c10604159f3b25526a7b398@69.167.152.199
URL:https://albanypinebush.org/section=visit-calendar&evtid=2110
X-MICROSOFT-CDO-IMPORTANCE:2
CLASS:PUBLIC
DTSTAMP:20260420T073125
CREATED:20260420T073125
END:VEVENT
END:VCALENDAR
