BEGIN:VCALENDAR
VERSION:2.0
PRODID:-//orgCentral//EN_US
CALSCALE:GREGORIAN
METHOD:PUBLISH
BEGIN:VEVENT
DTSTART:20240306T233000Z
DTEND:20240307T020000Z
LOCATION:Virtual Online Event\n \n  \, \n \n \n \n 
CATEGORIES:Event
SUMMARY:Community Science: FrogWatch Volunteer Training
DESCRIPTION:\n	Suitable for tweens\, teens and adults. Children under age 18 must be accompanied by an adult during the training session and during all surveys.\n	\n	This is an online training. Make a reservation and you will be emailed a link to join the meeting on March 6th at 6:30pm. Please check your SPAM folder.\n\n	This training: The evening will provide an introduction to FrogWatch\, a community science program of the Akron Zoo.&nbsp; Volunteers will then train to become certified FrogWatchers.\n	\n	The Survey: From February through August\, certified FrogWatchers will listen to &amp; report frogs &amp; toads calling in the APBP study area\n\n	\n	All volunteers are required to complete volunteer forms prior to volunteering with the preserve. These forms can be completed online\, and information will be provided upon your registration.\n
SEQUENCE:0
UID:00e31cbea90ffec6a6ef97b5f403849c@69.167.152.199
URL:https://albanypinebush.org/section=visit-calendar&evtid=1629
X-MICROSOFT-CDO-IMPORTANCE:2
CLASS:PUBLIC
DTSTAMP:20260419T183332
CREATED:20260419T183332
END:VEVENT
END:VCALENDAR
