BEGIN:VCALENDAR
VERSION:2.0
PRODID:-//orgCentral//EN_US
CALSCALE:GREGORIAN
METHOD:PUBLISH
BEGIN:VEVENT
DTSTART:20231226T233000Z
DTEND:20231227T010000Z
LOCATION:Albany Pine Bush Discovery Center\n 195 New Karner Road\n Albany New York\, 12205\n 518-456-0655\n info@AlbanyPineBush.org\n http://www.albanypinebush.org/contact\n 
CATEGORIES:Event
SUMMARY:Full Moon Hike
DESCRIPTION:\n	Suitable for ages 6+\n\n	Enjoy the Pine Bush at night with a hike under the full moon. We will walk approximately one mile over rolling topography stopping intermittently to explore the Pine Bush at night. This program will meet inside the Discovery Center.\n\n	Click here to review our public program guidelines.\n	\n	SUGGESTED DONATION $5\n	&nbsp;\n
SEQUENCE:0
UID:df6dec2c5e7e6604521153f341f2d9cc@69.167.152.199
URL:https://albanypinebush.org/section=calendar&evtid=1600
X-MICROSOFT-CDO-IMPORTANCE:2
CLASS:PUBLIC
DTSTAMP:20260419T182755
CREATED:20260419T182755
END:VEVENT
END:VCALENDAR
