BEGIN:VCALENDAR
VERSION:2.0
PRODID:-//orgCentral//EN_US
CALSCALE:GREGORIAN
METHOD:PUBLISH
BEGIN:VEVENT
DTSTART:20231006T210000Z
DTEND:20231006T223000Z
LOCATION:Trailhead #7 Madison Avenue Pinelands\n \n  \, \n 518-456-0655\n info@AlbanyPineBush.org\n http://www.AlbanyPineBush.org\n 
CATEGORIES:Event
SUMMARY:Meet the Oaks
DESCRIPTION:\n	Suitable for teens and adults\n\n	Oaks are incredibly diverse and ecologically dynamic\, and the Albany Pine Bush Preserve is a great place to get to know this group of deciduous trees. Come join us for this 1.5-mile guided hike\, during which we&rsquo;ll meet several different species of oak and learn about their importance to this rare ecosystem. This program will meet at the&nbsp;Madison Avenue Pinelands Trailhead (#7).\n\n	Click here to review our public program guidelines.\n	\n	SUGGESTED DONATION $5\n	&nbsp;\n
SEQUENCE:0
UID:772f0db7a43ad2a1d86628603c64ed07@69.167.152.199
URL:https://albanypinebush.org/section=visit-calendar&evtid=1566
X-MICROSOFT-CDO-IMPORTANCE:2
CLASS:PUBLIC
DTSTAMP:20260420T151300
CREATED:20260420T151300
END:VEVENT
END:VCALENDAR
