BEGIN:VCALENDAR
VERSION:2.0
PRODID:-//orgCentral//EN_US
CALSCALE:GREGORIAN
METHOD:PUBLISH
BEGIN:VEVENT
DTSTART:20230611T140000Z
DTEND:20230612T033000Z
LOCATION:Albany Pine Bush Discovery Center\n 195 New Karner Road\n Albany New York\, 12205\n 518-456-0655\n info@AlbanyPineBush.org\n http://www.albanypinebush.org/contact\n 
CATEGORIES:Event
SUMMARY:Wildflower Walk
DESCRIPTION:\n	Suitable for all ages\n	Kids and adults\, join us as we walk 0.9 miles looking for little pops of color among the bushes\, grasses and trees to see what flowers we can find in the Albany Pine Bush Preserve.\n	\n	Click here to review our public program guidelines.\n
SEQUENCE:0
UID:6831b8169f9e8e981d405b39ae8c0180@69.167.152.199
URL:https://albanypinebush.org/section=visit-calendar&evtid=1466
X-MICROSOFT-CDO-IMPORTANCE:2
CLASS:PUBLIC
DTSTAMP:20260419T074111
CREATED:20260419T074111
END:VEVENT
END:VCALENDAR
