BEGIN:VCALENDAR
VERSION:2.0
PRODID:-//orgCentral//EN_US
CALSCALE:GREGORIAN
METHOD:PUBLISH
BEGIN:VEVENT
DTSTART:20230614T200000Z
DTEND:20230614T233000Z
LOCATION:Albany Pine Bush Discovery Center\n 195 New Karner Road\n Albany New York\, 12205\n 518-456-0655\n info@AlbanyPineBush.org\n http://www.albanypinebush.org/contact\n 
CATEGORIES:Event
SUMMARY:Nature Night Out
DESCRIPTION:\n	&nbsp;\n\n	Food Trucks\n	Tacos Diablo\n	Mr. Ding-A-Ling\n	\n	Live Music\n	Albany High School&#39;s Jazzmanian Devils\n	\n	StoryWalk\n	Mister Karner Blue\n\n	The Albany Pine Bush Preserve presents &quot;Nature Night Out&quot;\, a series of three summer evening events that invite everyone to drop everything and get into nature. The Albany Pine Bush Discovery Center will extend operations until 7:30pm on each of these days\, capitalizing on those longer sunlit summer hours.\n\n	Visitors of all ages can enjoy live music while feasting on a meal from food truck vendors\, go on a StoryWalk adventure along the trail and learn about the natural &amp; cultural history of the Pine Bush with interactive Discovery Center exhibits.\n\n	A fun evening out in nature awaits you at 195 New Karner Road\, Albany\, NY 12205 on Wednesday June 14th\, Wednesday July 12th and Wednesday August 16th.\n
SEQUENCE:0
UID:a4fa80560d2910541f5d4b0617dfb003@69.167.152.199
URL:https://albanypinebush.org/section=visit-calendar&evtid=1316
X-MICROSOFT-CDO-IMPORTANCE:2
CLASS:PUBLIC
DTSTAMP:20260420T070224
CREATED:20260420T070224
END:VEVENT
END:VCALENDAR
