BEGIN:VCALENDAR
VERSION:2.0
PRODID:-//orgCentral//EN_US
CALSCALE:GREGORIAN
METHOD:PUBLISH
BEGIN:VEVENT
DTSTART:20220414T230000Z
DTEND:20220415T000000Z
LOCATION:Online Webinar\n \n  \, \n \n \n \n 
CATEGORIES:Event
SUMMARY:Albany Pine Bush Q&A Webinar: Prescribed Fire
DESCRIPTION:\n	This online webinar is on April 14th at 7pm. You will receive an email with a link to the program. Please check your SPAM folder.&nbsp;\n\n	Suitable for Adults\n\n	Curious about why there are prescribed fires in the Albany Pine Bush Preserve? Have you ever wondered how a prescribed fire is conducted or why we burn where we do? Join Albany Pine Bush Preserve staff to get your &ldquo;burning&rdquo; questions about prescribed fires answered. This webinar will follow a question-and-answer format. You can enter your questions during the webinar or email them to support@albanypinebush.org prior to the start and we will do our best to answer them all.&nbsp;\n\n	Registration is required. Please click here to register. You will recieve an email with the zoom link. Please check your SPAM folder.\n\n	If you have trouble logging in the evening of the program please contact support@albanypinebush.org for help.\n\n	All guests are welcome and encouraged to actively participate in our limited access in-person and virtual programs through interactive questions and conversation.&nbsp; The Albany Pine Bush Preserve Commission (APBPC) requests that guests respect that such interactions will be respectful and that the content of such interactions will be pertinent to our in-person and virtual programs.\n
SEQUENCE:0
UID:36199be9eeef02618d1ab65adf72cf82@69.167.152.199
URL:https://albanypinebush.org/section=visit-calendar&evtid=1265
X-MICROSOFT-CDO-IMPORTANCE:2
CLASS:PUBLIC
DTSTAMP:20260419T173614
CREATED:20260419T173614
END:VEVENT
END:VCALENDAR
